BEGIN:VCALENDAR
VERSION:2.0
PRODID:-//TACAM - ECPv6.15.18//NONSGML v1.0//EN
CALSCALE:GREGORIAN
METHOD:PUBLISH
X-ORIGINAL-URL:https://tacam.org
X-WR-CALDESC:Events for TACAM
REFRESH-INTERVAL;VALUE=DURATION:PT1H
X-Robots-Tag:noindex
X-PUBLISHED-TTL:PT1H
BEGIN:VTIMEZONE
TZID:America/Detroit
BEGIN:DAYLIGHT
TZOFFSETFROM:-0500
TZOFFSETTO:-0400
TZNAME:EDT
DTSTART:20230312T070000
END:DAYLIGHT
BEGIN:STANDARD
TZOFFSETFROM:-0400
TZOFFSETTO:-0500
TZNAME:EST
DTSTART:20231105T060000
END:STANDARD
BEGIN:DAYLIGHT
TZOFFSETFROM:-0500
TZOFFSETTO:-0400
TZNAME:EDT
DTSTART:20240310T070000
END:DAYLIGHT
BEGIN:STANDARD
TZOFFSETFROM:-0400
TZOFFSETTO:-0500
TZNAME:EST
DTSTART:20241103T060000
END:STANDARD
BEGIN:DAYLIGHT
TZOFFSETFROM:-0500
TZOFFSETTO:-0400
TZNAME:EDT
DTSTART:20250309T070000
END:DAYLIGHT
BEGIN:STANDARD
TZOFFSETFROM:-0400
TZOFFSETTO:-0500
TZNAME:EST
DTSTART:20251102T060000
END:STANDARD
BEGIN:DAYLIGHT
TZOFFSETFROM:-0500
TZOFFSETTO:-0400
TZNAME:EDT
DTSTART:20260308T070000
END:DAYLIGHT
BEGIN:STANDARD
TZOFFSETFROM:-0400
TZOFFSETTO:-0500
TZNAME:EST
DTSTART:20261101T060000
END:STANDARD
END:VTIMEZONE
BEGIN:VTIMEZONE
TZID:UTC
BEGIN:STANDARD
TZOFFSETFROM:+0000
TZOFFSETTO:+0000
TZNAME:UTC
DTSTART:20230101T000000
END:STANDARD
END:VTIMEZONE
BEGIN:VEVENT
DTSTART;TZID=America/Detroit:20250126T103000
DTEND;TZID=America/Detroit:20250126T113000
DTSTAMP:20260422T155317
CREATED:20250124T035605Z
LAST-MODIFIED:20250124T042344Z
UID:10000039-1737887400-1737891000@tacam.org
SUMMARY:26 Ocak Pazar Türkçe Çocuk Kulübünde buluşalım!
DESCRIPTION:👧🏼👦🏻  26 OCAK PAZAR GÜNÜ TACAM’da TÜRKÇE ÇOCUK KULÜBÜNDEYİZ!\n  \n\nSevgili TACAM Ailesi\, \nTürkçe Çocuk Kulübü derslerimiz 26 Ocak Pazar günü TACAM binamızda devam ediyor! 🎉 \n📅 Tarih: 26 Ocak 2025\, Pazar\n🕥 Saat: 10:30 am\n👧👦 Yaş Grubu: 3-6 yaş\n📍 Yer: TACAM Binası \nKatılım Ücretleri:\n– TACAM üyelerine ücretsiz\n– Üye olmayanlar için sadece $5 \nÖnemli Not:\nDerslerimiz kontenjanlı olduğu için\, katılım hakkı sınırlıdır. Kayıt yaptıran velilerin\, herhangi bir nedenle gelememeleri durumunda\, bunu en az bir gün önceden bizlere bildirmeleri önemle rica olunur. Bu şekilde\, sıradaki çocukların etkinliğe katılma fırsatını değerlendirmesi mümkün olacaktır. Anlayışınız ve desteğiniz için teşekkür ederiz. \nBu eğlenceli ve öğretici etkinlikte çocuklarımız hem Türkçe öğreniyor hem de güzel arkadaşlıklar kuruyor. Sizleri de aramızda görmekten mutluluk duyarız! \nSevgilerimizle\,\nTACAM Eğitim Komitesi \n👉 Sorularınız için: mervesahin@tacam.org
URL:https://tacam.org/event/26-ocak-pazar-turkce-cocuk-kulubunde-bulusalim/
LOCATION:TACAM Cultural Center\, 28847 Beck Rd\, Wixom\, MI\, 48393\, United States
CATEGORIES:Events at TACAM Building
ATTACH;FMTTYPE=image/png:https://tacam.org/wp-content/uploads/2025/01/Turkce-3.png
ORGANIZER;CN="TACAM Education Comittee":MAILTO:mervesahin@tacam.org
END:VEVENT
BEGIN:VEVENT
DTSTART;TZID=UTC:20250126T103000
DTEND;TZID=UTC:20250126T113000
DTSTAMP:20260422T155317
CREATED:20241111T213550Z
LAST-MODIFIED:20250217T045657Z
UID:10000024-1737887400-1737891000@tacam.org
SUMMARY:Türkçe Çocuk Kulübü
DESCRIPTION:Sevgili TACAM Topluluğu\, \nTürkçe Çocuk Kulübü olarak\, 3-6 yaş grubundaki çocuklar için her iki haftada bir Pazar günleri TACAM binamızda buluşmalar düzenliyoruz. Çocuklarımıza Türkçe eğitimi ve kültürel birikim kazandırmak amacıyla Selin Öğretmen eşliğinde keyifli ve eğitici etkinliklerle dolu bir program sunuyoruz. İlk dersimiz 17 Kasım Pazar günü gerçekleşecek! \nSınıfımızda sınırlı sayıda yer bulunduğu için katılımınızı mervesahin@tacam.org adresinden bizlere bildirmenizi rica ediyoruz. \nEtkinlik Detayları:\n Her iki haftada bir Pazar günü (İlk ders: 17 Kasım)\n TACAM Binası \nKatılım:\n– TACAM üyelerine ücretsiz!\n– Üye olmayanlar için giriş ücreti sadece $5 \nSorularınız için bizimle iletişime geçmekten çekinmeyin: contact@tacam.org\nİlk dersimizde çocuklarımızı aramızda görmek için sabırsızlanıyoruz! \nSevgiler\,\nTACAM Eğitim Komitesi
URL:https://tacam.org/event/turkce-cocuk-kulubu/2025-01-26/
LOCATION:TACAM Cultural Center\, 28847 Beck Rd\, Wixom\, MI\, 48393\, United States
CATEGORIES:Events at TACAM Building
ATTACH;FMTTYPE=image/png:https://tacam.org/wp-content/uploads/2024/11/Turkce.png
ORGANIZER;CN="TACAM Education Comittee":MAILTO:mervesahin@tacam.org
END:VEVENT
BEGIN:VEVENT
DTSTART;TZID=America/Detroit:20250119T130000
DTEND;TZID=America/Detroit:20250119T140000
DTSTAMP:20260422T155317
CREATED:20250123T015416Z
LAST-MODIFIED:20250123T015640Z
UID:10000037-1737291600-1737295200@tacam.org
SUMMARY:Mobile Class in Rochester Hills - JOIN US!
DESCRIPTION:Join Our In-Person Turkish Language Classes in Rochester Hills – Sunday\, JAN 19TH! \nDear TACAM Family\, \nWe are excited to continue our Mobile Turkish Language Club! These fun and hands-on Turkish classes are for children in our community and are held in a new location each month. \nJANUARY Class Details:\n– Location: Rochester Hills Public Library\n– Date: 01/19/2025\n– Time: 1:00 pm-2:00 pm\n– Age Group: 5-12 years \nSpots are limited\, so don’t forget to register by Friday evening (Jan 17)! \nTo Register: \nPlease email mervesahin@tacam.org with your name\, contact information\, and any prior experience with Turkish\, if applicable. \nFeel free to reach out with any questions. We look forward to welcoming you to the class! \nWarm regards\,\nEducation Committee\nTACAM BoD
URL:https://tacam.org/event/mobile-class-in-rochester-hills-join-us/
LOCATION:Rochester Hills Public Library\, 500 Olde Towne Rd\, Rochester\, MI\, 48307\, United States
CATEGORIES:Events at Other Buildings
ATTACH;FMTTYPE=image/png:https://tacam.org/wp-content/uploads/2025/01/in-person-turkish-language-class-01-2025.png
ORGANIZER;CN="TACAM Education Comittee":MAILTO:mervesahin@tacam.org
END:VEVENT
BEGIN:VEVENT
DTSTART;TZID=UTC:20250112T103000
DTEND;TZID=UTC:20250112T113000
DTSTAMP:20260422T155317
CREATED:20241111T213550Z
LAST-MODIFIED:20250217T045657Z
UID:10000023-1736677800-1736681400@tacam.org
SUMMARY:Türkçe Çocuk Kulübü
DESCRIPTION:Sevgili TACAM Topluluğu\, \nTürkçe Çocuk Kulübü olarak\, 3-6 yaş grubundaki çocuklar için her iki haftada bir Pazar günleri TACAM binamızda buluşmalar düzenliyoruz. Çocuklarımıza Türkçe eğitimi ve kültürel birikim kazandırmak amacıyla Selin Öğretmen eşliğinde keyifli ve eğitici etkinliklerle dolu bir program sunuyoruz. İlk dersimiz 17 Kasım Pazar günü gerçekleşecek! \nSınıfımızda sınırlı sayıda yer bulunduğu için katılımınızı mervesahin@tacam.org adresinden bizlere bildirmenizi rica ediyoruz. \nEtkinlik Detayları:\n Her iki haftada bir Pazar günü (İlk ders: 17 Kasım)\n TACAM Binası \nKatılım:\n– TACAM üyelerine ücretsiz!\n– Üye olmayanlar için giriş ücreti sadece $5 \nSorularınız için bizimle iletişime geçmekten çekinmeyin: contact@tacam.org\nİlk dersimizde çocuklarımızı aramızda görmek için sabırsızlanıyoruz! \nSevgiler\,\nTACAM Eğitim Komitesi
URL:https://tacam.org/event/turkce-cocuk-kulubu/2025-01-12/
LOCATION:TACAM Cultural Center\, 28847 Beck Rd\, Wixom\, MI\, 48393\, United States
CATEGORIES:Events at TACAM Building
ATTACH;FMTTYPE=image/png:https://tacam.org/wp-content/uploads/2024/11/Turkce.png
ORGANIZER;CN="TACAM Education Comittee":MAILTO:mervesahin@tacam.org
END:VEVENT
BEGIN:VEVENT
DTSTART;TZID=America/Detroit:20241215T103000
DTEND;TZID=America/Detroit:20241215T123000
DTSTAMP:20260422T155317
CREATED:20241218T014727Z
LAST-MODIFIED:20250217T041501Z
UID:10000036-1734258600-1734265800@tacam.org
SUMMARY:Türkçe Çocuk Kulübü – 15 Aralık Pazar TACAM'da!
DESCRIPTION:Sevgili TACAM Ailesi\, \nTürkçe Çocuk Kulübü derslerimiz 15 Aralık Pazar günü TACAM binamızda devam ediyor! 🎉 \nTarih: 15 Aralık 2024\, Pazar\nSaat: 10:30 am\nYaş Grubu: 3-6 yaş\nYer: TACAM Binası \nKatılım Ücretleri:\n-TACAM üyelerine ücretsiz\n-Üye olmayanlar için sadece $5 \nBu eğlenceli ve öğretici etkinlikte çocuklarımız hem Türkçe öğreniyor hem de güzel arkadaşlıklar kuruyor. Sizleri de aramızda görmekten mutluluk duyarız! \n📝 Not: 15 Aralık dersimizin ardından Türkçe Çocuk Kulübü\, 12 Ocak Pazar gününe kadar ara verecektir. Şimdiden herkese mutlu\, sağlıklı ve güzel bir yeni yıl dileriz! \n👉 Sorularınız için: mervesahin@tacam.org \nSevgilerimizle\,\nTACAM Eğitim Komitesi
URL:https://tacam.org/event/turkce-cocuk-kulubu-15-aralik-pazar-tacamda/
LOCATION:TACAM Cultural Center\, 28847 Beck Rd\, Wixom\, MI\, 48393\, United States
CATEGORIES:Events at TACAM Building
ATTACH;FMTTYPE=image/png:https://tacam.org/wp-content/uploads/2024/12/turkish-kids-club-15-sunday-dec.png
ORGANIZER;CN="TACAM Education Comittee":MAILTO:mervesahin@tacam.org
END:VEVENT
BEGIN:VEVENT
DTSTART;TZID=UTC:20241215T103000
DTEND;TZID=UTC:20241215T113000
DTSTAMP:20260422T155317
CREATED:20241111T213550Z
LAST-MODIFIED:20250217T045657Z
UID:10000022-1734258600-1734262200@tacam.org
SUMMARY:Türkçe Çocuk Kulübü
DESCRIPTION:Sevgili TACAM Topluluğu\, \nTürkçe Çocuk Kulübü olarak\, 3-6 yaş grubundaki çocuklar için her iki haftada bir Pazar günleri TACAM binamızda buluşmalar düzenliyoruz. Çocuklarımıza Türkçe eğitimi ve kültürel birikim kazandırmak amacıyla Selin Öğretmen eşliğinde keyifli ve eğitici etkinliklerle dolu bir program sunuyoruz. İlk dersimiz 17 Kasım Pazar günü gerçekleşecek! \nSınıfımızda sınırlı sayıda yer bulunduğu için katılımınızı mervesahin@tacam.org adresinden bizlere bildirmenizi rica ediyoruz. \nEtkinlik Detayları:\n Her iki haftada bir Pazar günü (İlk ders: 17 Kasım)\n TACAM Binası \nKatılım:\n– TACAM üyelerine ücretsiz!\n– Üye olmayanlar için giriş ücreti sadece $5 \nSorularınız için bizimle iletişime geçmekten çekinmeyin: contact@tacam.org\nİlk dersimizde çocuklarımızı aramızda görmek için sabırsızlanıyoruz! \nSevgiler\,\nTACAM Eğitim Komitesi
URL:https://tacam.org/event/turkce-cocuk-kulubu/2024-12-15/
LOCATION:TACAM Cultural Center\, 28847 Beck Rd\, Wixom\, MI\, 48393\, United States
CATEGORIES:Events at TACAM Building
ATTACH;FMTTYPE=image/png:https://tacam.org/wp-content/uploads/2024/11/Turkce.png
ORGANIZER;CN="TACAM Education Comittee":MAILTO:mervesahin@tacam.org
END:VEVENT
BEGIN:VEVENT
DTSTART;TZID=UTC:20241214T190000
DTEND;TZID=UTC:20241214T230000
DTSTAMP:20260422T155317
CREATED:20241126T072428Z
LAST-MODIFIED:20241220T033115Z
UID:10000033-1734202800-1734217200@tacam.org
SUMMARY:Jazz Night at TACAM on December 14\, 2024!
DESCRIPTION:Dear TACAM Community\, \nWe are excited to announce Jazz Night at TACAM on December 14\, 2024! \nJoin us for an enchanting evening filled with live jazz music\, great company\, and festive cheer\, all while supporting a worthy cause. This holiday fundraiser promises to be a memorable night\, and we would love for you to be a part of it! \nEvent Details:\n Date: December 14\, 2024\n Time: 7 PM\n Location: TACAM Cultural Center\n Tickets: $40 For Members – $50 for Non-Members \nYour ticket includes access to a live performance\, catered dinner and refreshments\, a raffle ticket and the opportunity to contribute to our holiday fundraising efforts. \nLet’s come together to celebrate the season and make a difference in our community. \nReserve your tickets today! For more information and to purchase tickets\, please reply to this email. \nWe look forward to seeing you there! \nKind Regards\,\nTACAM BoD
URL:https://tacam.org/event/jazz-night-at-tacam-on-december-14-2024/
LOCATION:TACAM Cultural Center\, 28847 Beck Rd\, Wixom\, MI\, 48393\, United States
CATEGORIES:Events at TACAM Building
ATTACH;FMTTYPE=image/jpeg:https://tacam.org/wp-content/uploads/2024/11/jazz-night-at-tacam-2024-e1732598803478.jpg
END:VEVENT
BEGIN:VEVENT
DTSTART;TZID=America/Detroit:20241207T110000
DTEND;TZID=America/Detroit:20241207T120000
DTSTAMP:20260422T155317
CREATED:20241204T034107Z
LAST-MODIFIED:20241204T034107Z
UID:10000034-1733569200-1733572800@tacam.org
SUMMARY:Join Our In-Person Turkish Language Classes in Novi - Saturday\, Dec 7th!
DESCRIPTION:Dear TACAM Family\,   \nWe are excited to continue our new program—the Mobile Turkish Language Club! These fun and hands-on Turkish classes are for children in our community and are held in a new location each month. \nDECEMBER Class Details:\n– Location: Novi Public Library\n– Date: 12/07/2024\n– Time: 11:00 am-12:00 pm   \nTo Register:   \nPlease email mervesahin@tacam.org with your name\, contact information\, and any prior experience with Turkish\, if applicable. Spaces are limited\, so we encourage you to register soon!    \nFeel free to reach out with any questions. We look forward to welcoming you to the class!   \nWarm regards\,\nTACAM Education Committee
URL:https://tacam.org/event/join-our-in-person-turkish-language-classes-in-novi-saturday-dec-7th/
LOCATION:Novi Public Library\, 45255 W 10 Mile Rd\, Novi\, 48375\, United States
CATEGORIES:Events at Other Buildings
ATTACH;FMTTYPE=image/png:https://tacam.org/wp-content/uploads/2024/12/in-person-turkish-class-in-novi-dec-2024.png
ORGANIZER;CN="TACAM Education Comittee":MAILTO:mervesahin@tacam.org
END:VEVENT
BEGIN:VEVENT
DTSTART;TZID=America/Detroit:20241205T130000
DTEND;TZID=America/Detroit:20241205T170000
DTSTAMP:20260422T155317
CREATED:20241204T034447Z
LAST-MODIFIED:20241204T034447Z
UID:10000035-1733403600-1733418000@tacam.org
SUMMARY:Let's Celebrate The World Turkish Coffee Day on Dec 5!
DESCRIPTION:Dear Friends\, \nTurkish coffee was declared as the intangible heritage by UNESCO on Dec 5 2013. Since then Dec 5th is celebrated as the World Turkish Coffee Culture Day.  To celebrate and increase an awareness to the Turkish coffee\, TACAM and ATAA members are offering free Turkish coffee at Socotra Coffee House in Ann Arbor on Thursday Dec 5 from 1 to 5 pm. \nDec 5 is also the 90th anniversary of the rights given to Turkish women to vote and to be elected in Turkiye. Let’s celebrate both!
URL:https://tacam.org/event/lets-celebrate-the-world-turkish-coffee-day-on-dec-5/
LOCATION:Socotra Coffee House\, 3130 Packard St\, Ann Arbor\, 48108\, United States
CATEGORIES:Events at Other Buildings
ATTACH;FMTTYPE=image/jpeg:https://tacam.org/wp-content/uploads/2024/12/dec-5-2024-world-coffee-day.jpg
END:VEVENT
BEGIN:VEVENT
DTSTART;TZID=UTC:20241201T103000
DTEND;TZID=UTC:20241201T113000
DTSTAMP:20260422T155317
CREATED:20241111T213550Z
LAST-MODIFIED:20250217T045657Z
UID:10000021-1733049000-1733052600@tacam.org
SUMMARY:Türkçe Çocuk Kulübü
DESCRIPTION:Sevgili TACAM Topluluğu\, \nTürkçe Çocuk Kulübü olarak\, 3-6 yaş grubundaki çocuklar için her iki haftada bir Pazar günleri TACAM binamızda buluşmalar düzenliyoruz. Çocuklarımıza Türkçe eğitimi ve kültürel birikim kazandırmak amacıyla Selin Öğretmen eşliğinde keyifli ve eğitici etkinliklerle dolu bir program sunuyoruz. İlk dersimiz 17 Kasım Pazar günü gerçekleşecek! \nSınıfımızda sınırlı sayıda yer bulunduğu için katılımınızı mervesahin@tacam.org adresinden bizlere bildirmenizi rica ediyoruz. \nEtkinlik Detayları:\n Her iki haftada bir Pazar günü (İlk ders: 17 Kasım)\n TACAM Binası \nKatılım:\n– TACAM üyelerine ücretsiz!\n– Üye olmayanlar için giriş ücreti sadece $5 \nSorularınız için bizimle iletişime geçmekten çekinmeyin: contact@tacam.org\nİlk dersimizde çocuklarımızı aramızda görmek için sabırsızlanıyoruz! \nSevgiler\,\nTACAM Eğitim Komitesi
URL:https://tacam.org/event/turkce-cocuk-kulubu/2024-12-01/
LOCATION:TACAM Cultural Center\, 28847 Beck Rd\, Wixom\, MI\, 48393\, United States
CATEGORIES:Events at TACAM Building
ATTACH;FMTTYPE=image/png:https://tacam.org/wp-content/uploads/2024/11/Turkce.png
ORGANIZER;CN="TACAM Education Comittee":MAILTO:mervesahin@tacam.org
END:VEVENT
BEGIN:VEVENT
DTSTART;TZID=UTC:20241123T103000
DTEND;TZID=UTC:20241123T130000
DTSTAMP:20260422T155317
CREATED:20241119T024858Z
LAST-MODIFIED:20241119T024858Z
UID:10000032-1732357800-1732366800@tacam.org
SUMMARY:Celebrate Teachers' Day with Us at TACAM! 🎉👩‍🏫👨‍🏫
DESCRIPTION:Dear Friends\, \nJoin us in honoring our incredible educators at the TACAM Cultural Center on Saturday\, November 23\, at 10:30 AM!   \nThis is a day to celebrate\, recognize\, and honor the invaluable contributions of teachers in shaping our future. We extend a warm invitation to all teachers across Michigan to join this special event. \nWe are especially thrilled to welcome Eskişehir Mayor Ayşe Ünlüce as our distinguished guest. \nLet’s come together to express our gratitude and admiration for those who inspire\, guide\, and uplift our community. \nWe look forward to seeing you! \nWarm regards\,\nTACAM BoD
URL:https://tacam.org/event/celebrate-teachers-day-with-us-at-tacam-%f0%9f%8e%89%f0%9f%91%a9%f0%9f%8f%ab%f0%9f%91%a8%f0%9f%8f%ab/
LOCATION:TACAM Cultural Center\, 28847 Beck Rd\, Wixom\, MI\, 48393\, United States
CATEGORIES:Events at TACAM Building
ATTACH;FMTTYPE=image/png:https://tacam.org/wp-content/uploads/2024/11/teachers-day-event-at-tacam-building-2024.png
END:VEVENT
BEGIN:VEVENT
DTSTART;TZID=UTC:20241117T130000
DTEND;TZID=UTC:20241117T140000
DTSTAMP:20260422T155317
CREATED:20241110T075507Z
LAST-MODIFIED:20241111T212642Z
UID:10000007-1731848400-1731852000@tacam.org
SUMMARY:Cultivating A Culture of Peace And Development Webinar
DESCRIPTION:ATAA- UN Committee Celebrates the International Science Day for Peace and Development\nDear Friends\, \nThe UN Committee of the Assembly of Turkish American Associations (ATAA-UN)\, celebrates the Nov 10 Science Day for Peace and Development with a webinar on Sunday Nov 17 by focusing on the effect of scientific approaches on the public health! \nCelebrated since 2002 November 10\, World Science Day for Peace and Development highlights the significant role of science in society and the need to engage the wider public in debates on emerging scientific issues. This day also suits well to celebrate the life of M. Kemal Atatürk who passed away 86 years ago on Nov 10. \nM.K. Atatürk only accepted the guidance of science saying that science is the only true guide in life.\n“Hayatta en hakiki mürşit ilimdir!” \nPlease join the webinar by registering at:\nhttps://us02web.zoom.us/webinar/register/WN_8iH31jvzQ42dvGMJYE_PNA#/registration \nAfter registering\, you will receive a confirmation email containing information about joining the meeting.
URL:https://tacam.org/event/cultivating-a-culture-of-peace-and-development-webinar/
LOCATION:https://us02web.zoom.us/webinar/register/WN_8iH31jvzQ42dvGMJYE_PNA#/registration
CATEGORIES:Events on Zoom
ATTACH;FMTTYPE=image/jpeg:https://tacam.org/wp-content/uploads/2024/11/ataa-un-cultivating-a-culture-of-peace-and-development.jpg
END:VEVENT
BEGIN:VEVENT
DTSTART;TZID=UTC:20241117T103000
DTEND;TZID=UTC:20241117T113000
DTSTAMP:20260422T155317
CREATED:20241111T213550Z
LAST-MODIFIED:20250217T045657Z
UID:10000020-1731839400-1731843000@tacam.org
SUMMARY:Türkçe Çocuk Kulübü
DESCRIPTION:Sevgili TACAM Topluluğu\, \nTürkçe Çocuk Kulübü olarak\, 3-6 yaş grubundaki çocuklar için her iki haftada bir Pazar günleri TACAM binamızda buluşmalar düzenliyoruz. Çocuklarımıza Türkçe eğitimi ve kültürel birikim kazandırmak amacıyla Selin Öğretmen eşliğinde keyifli ve eğitici etkinliklerle dolu bir program sunuyoruz. İlk dersimiz 17 Kasım Pazar günü gerçekleşecek! \nSınıfımızda sınırlı sayıda yer bulunduğu için katılımınızı mervesahin@tacam.org adresinden bizlere bildirmenizi rica ediyoruz. \nEtkinlik Detayları:\n Her iki haftada bir Pazar günü (İlk ders: 17 Kasım)\n TACAM Binası \nKatılım:\n– TACAM üyelerine ücretsiz!\n– Üye olmayanlar için giriş ücreti sadece $5 \nSorularınız için bizimle iletişime geçmekten çekinmeyin: contact@tacam.org\nİlk dersimizde çocuklarımızı aramızda görmek için sabırsızlanıyoruz! \nSevgiler\,\nTACAM Eğitim Komitesi
URL:https://tacam.org/event/turkce-cocuk-kulubu/2024-11-17/
LOCATION:TACAM Cultural Center\, 28847 Beck Rd\, Wixom\, MI\, 48393\, United States
CATEGORIES:Events at TACAM Building
ATTACH;FMTTYPE=image/png:https://tacam.org/wp-content/uploads/2024/11/Turkce.png
ORGANIZER;CN="TACAM Education Comittee":MAILTO:mervesahin@tacam.org
END:VEVENT
BEGIN:VEVENT
DTSTART;TZID=UTC:20241110T150000
DTEND;TZID=UTC:20241110T190000
DTSTAMP:20260422T155317
CREATED:20241106T083000Z
LAST-MODIFIED:20241106T083253Z
UID:10000006-1731250800-1731265200@tacam.org
SUMMARY:Turkish Heritage Night At Little Ceasars Arena
DESCRIPTION:Dear TACAM Members\, \nWe are excited to invite you to a special celebration of our culture and community at Turkish Heritage Night! Watch the Detroit Pistons take on the Houston Rockets on Sunday\, November 10th\, at 3:00 PM at Little Caesars Arena. \nThis event will feature NBA rising star Alperen Şengün\, a proud representative of Turkey\, playing for the Houston Rockets. You’ll also have a special opportunity to take a photo with him after the game! \nOur TACAM package includes:\n– A ticket to the Pistons game\n– A donation to TACAM\n– A Pistons gift item\n– The opportunity to take a post-game free throw on the Pistons court! \nTickets start at $64. Please use https://fevo-enterprise.com/event/Turkishamericanrzh1h4mb6g to get your tickets and join us for this exciting event! \nWe look forward to celebrating together! \nWarm regards\,\nTACAM BoD
URL:https://tacam.org/event/turkish-heritage-night-at-little-ceasars-arena/
LOCATION:Little Caesars Arena\, 2645 Woodward Ave\, Detroit\, MI\, 48201\, United States
CATEGORIES:Events at Other Buildings
ATTACH;FMTTYPE=image/png:https://tacam.org/wp-content/uploads/2024/11/unnamed.png
END:VEVENT
BEGIN:VEVENT
DTSTART;TZID=UTC:20241110T120000
DTEND;TZID=UTC:20241110T133000
DTSTAMP:20260422T155317
CREATED:20241106T082304Z
LAST-MODIFIED:20241106T083455Z
UID:10000005-1731240000-1731245400@tacam.org
SUMMARY:Atatürk Memorial Day
DESCRIPTION:We invite you to join us in honoring Mustafa Kemal Atatürk’s memory on the anniversary of his passing. Let us come together to pay our respects to the founder of modern Turkey and reflect on his enduring legacy. \nThis gathering will be a moment of unity and remembrance as we celebrate Atatürk’s profound contributions to our culture\, heritage\, and future. \nSpecial Note: Later that day\, at 3:00 PM\, join us for Turkish Heritage Night at Little Caesars Arena! Wear your boldest white & red or Turkish-themed t-shirts\, bring your posters\, flags\, and enthusiasm\, and get ready for a day of unity\, pride\, and celebration! \nWe look forward to commemorating this important day with you.
URL:https://tacam.org/event/ataturk-memorial-day/
LOCATION:TACAM Cultural Center\, 28847 Beck Rd\, Wixom\, MI\, 48393\, United States
CATEGORIES:Events at TACAM Building
ATTACH;FMTTYPE=image/jpeg:https://tacam.org/wp-content/uploads/2024/11/20241110Ataturk01.jpg
END:VEVENT
BEGIN:VEVENT
DTSTART;TZID=UTC:20241102T190000
DTEND;TZID=UTC:20241102T233000
DTSTAMP:20260422T155317
CREATED:20240820T084542Z
LAST-MODIFIED:20241106T054130Z
UID:10000004-1730574000-1730590200@tacam.org
SUMMARY:TACAM 2024 Turkish Republic Ball
DESCRIPTION:Invitation to the 101st Turkish Republic Ball \nWe are excited to announce that invitations for the 101st Turkish Republic Ball will be arriving in your mailbox next week! \nThis highly anticipated event promises an evening of joy\, celebration\, and cultural richness as we come together to honor the legacy of the Turkish Republic. We invite you to be part of this memorable night filled with laughter\, dancing\, and wonderful company. \n​​We look forward to celebrating the 101st anniversary of the Turkish Republic with you on Nov 2nd\, 2024. Please RSVP by Oct 29\, 2024\, with your choice of food listed on the back of the RSVP card. You can email the RSVP to ebru@veolectra.com or you can text pictures of the RSVP card to (210) 803 0984. \nWe can’t wait to celebrate with you! \nKinds Regards\, \nTACAM BoD \n  \n \n  \n \n 
URL:https://tacam.org/event/tacam-2024-turkish-republic-ball/
LOCATION:Fox Hill Golf and Banquet Club\, 8768 N Territorial Rd\, Plymouth\, MI\, 48170\, United States
CATEGORIES:Events at Other Buildings
ATTACH;FMTTYPE=image/jpeg:https://tacam.org/wp-content/uploads/2024/08/20241102RepublicBall02.jpg
END:VEVENT
BEGIN:VEVENT
DTSTART;TZID=UTC:20240824T090000
DTEND;TZID=UTC:20240824T130000
DTSTAMP:20260422T155317
CREATED:20240820T082918Z
LAST-MODIFIED:20240820T082918Z
UID:10000003-1724490000-1724504400@tacam.org
SUMMARY:Sayın Büyükelçimiz & Eşi ve Chicago Başkonsolosumuzla kahvaltıya davetlisiniz!
DESCRIPTION:Sevgili TACAM ailesi\, \n24 Ağustos 2024 sabah saat 09:00’da TACAM binasında\, Büyükelçimiz Sayın Sedat Önal & değerli eşi Figen Önal\, ve Chicago Başkonsolosumuz Sayın Engin Türesin’in katılımıyla gerçekleştireceğimiz kahvaltı etkinliğimizde\, sizleri de aramızda görmekten büyük mutluluk duyarız. Hep birlikte keyifli bir sohbet eşliğinde güzel bir sabah geçirmeyi umuyoruz. \nSevgilerimizle\,\nTACAM BoD \nDear TACAM Family\,\nWe are delighted to invite you to a breakfast event at the TACAM building on August 24th\, 2024\, at 9:00 AM\, with the participation of our Ambassador and his wife\, Mr. Sedat Önal & Mrs. Figen Önal\, and our Chicago Consul General\, Mr. Engin Türesin. We would be thrilled to have you join us for this special morning\, filled with delightful conversation and a warm atmosphere. \nWarm regards\,\nTACAM BoD
URL:https://tacam.org/event/sayin-buyukelcimiz-esi-ve-chicago-baskonsolosumuzla-kahvaltiya-davetlisiniz/
LOCATION:TACAM Cultural Center\, 28847 Beck Rd\, Wixom\, MI\, 48393\, United States
CATEGORIES:Events at TACAM Building
END:VEVENT
BEGIN:VEVENT
DTSTART;TZID=UTC:20240604T130000
DTEND;TZID=UTC:20240604T150000
DTSTAMP:20260422T155317
CREATED:20240512T001633Z
LAST-MODIFIED:20240512T001633Z
UID:10000002-1717506000-1717513200@tacam.org
SUMMARY:TACAM General Assembly
DESCRIPTION:TACAM General Assembly meeting will be held on May 4 at 11 am via zoom. To attend the meeting at that time please use this link. \nThese open positions wait volunteers: \nExecutive board: Vice President\, Treasurer\, Secretary\n6 Board of Directors positions\n3 Board of Trustees positions \nIf you would like to serve at TACAM executive board\, board of directors\, or trustees please contact nomination committee members listed below by May 3\, 2024: \nNilufer Esen Bilgin: nesenbilgin@gmail.com\nMehmet Erdem Yaya: erdemyaya@gmail.com\nMine Ozalp: mine_tasci@yahoo.com
URL:https://tacam.org/event/tacam-general-assembly/
LOCATION:MI
CATEGORIES:Events at TACAM Building
END:VEVENT
BEGIN:VEVENT
DTSTART;TZID=UTC:20240421T120000
DTEND;TZID=UTC:20240421T170000
DTSTAMP:20260422T155317
CREATED:20240511T234147Z
LAST-MODIFIED:20240512T000845Z
UID:10000001-1713700800-1713718800@tacam.org
SUMMARY:Children’s Day & Ramazan Bayramı
DESCRIPTION:We are thrilled to invite you to a special event on April 21st\, where we will be celebrating two wonderful occasions : 23 April National Sovereignty and Children’s Day and Ramazan Bayramı! \nOn this auspicious day\, we will be honoring the significance of 23 April National Sovereignty and Children’s Day with a variety of activities\, performances\, and cultural displays. Additionally\, we will come together to celebrate the spirit of Ramazan Bayramı\, fostering unity\, joy\, and harmony among all attendees. \nIn the spirit of community and sharing\, we invite you to bring your favorite dishes to contribute to the potluck feast that will accompany our celebrations. Whether it’s traditional dishes from your culture or personal favorites\, your culinary contributions will add flavor and warmth to our gathering. \nWe look forward to celebrating with you and creating beautiful memories together. \nWarm regards\, \nTACAM BoD
URL:https://tacam.org/event/childrens-day-ramazan-bayrami/
LOCATION:TACAM Cultural Center\, 28847 Beck Rd\, Wixom\, MI\, 48393\, United States
ATTACH;FMTTYPE=image/jpeg:https://tacam.org/wp-content/uploads/2024/05/happy-Childrens-Day.jpg
END:VEVENT
END:VCALENDAR