BEGIN:VCALENDAR
VERSION:2.0
PRODID:-//TACAM - ECPv6.15.18//NONSGML v1.0//EN
CALSCALE:GREGORIAN
METHOD:PUBLISH
X-ORIGINAL-URL:https://tacam.org
X-WR-CALDESC:Events for TACAM
REFRESH-INTERVAL;VALUE=DURATION:PT1H
X-Robots-Tag:noindex
X-PUBLISHED-TTL:PT1H
BEGIN:VTIMEZONE
TZID:America/Detroit
BEGIN:DAYLIGHT
TZOFFSETFROM:-0500
TZOFFSETTO:-0400
TZNAME:EDT
DTSTART:20240310T070000
END:DAYLIGHT
BEGIN:STANDARD
TZOFFSETFROM:-0400
TZOFFSETTO:-0500
TZNAME:EST
DTSTART:20241103T060000
END:STANDARD
BEGIN:DAYLIGHT
TZOFFSETFROM:-0500
TZOFFSETTO:-0400
TZNAME:EDT
DTSTART:20250309T070000
END:DAYLIGHT
BEGIN:STANDARD
TZOFFSETFROM:-0400
TZOFFSETTO:-0500
TZNAME:EST
DTSTART:20251102T060000
END:STANDARD
BEGIN:DAYLIGHT
TZOFFSETFROM:-0500
TZOFFSETTO:-0400
TZNAME:EDT
DTSTART:20260308T070000
END:DAYLIGHT
BEGIN:STANDARD
TZOFFSETFROM:-0400
TZOFFSETTO:-0500
TZNAME:EST
DTSTART:20261101T060000
END:STANDARD
END:VTIMEZONE
BEGIN:VEVENT
DTSTART;TZID=America/Detroit:20251012T140000
DTEND;TZID=America/Detroit:20251012T160000
DTSTAMP:20260423T062333
CREATED:20250916T165054Z
LAST-MODIFIED:20250916T165054Z
UID:10000063-1760277600-1760284800@tacam.org
SUMMARY:🎨 Join Our Art Masterclass Workshop – October 12 at TACAM!
DESCRIPTION:Dear all\, \nWe are excited to invite you to an inspiring Art Masterclass Workshop at the TACAM Cultural Center! This special event is designed for all skill levels—no prior experience is needed. Just bring your enthusiasm and unleash your creative potential! \n📅 Date: Sunday\, October 12\, 2025\n🕑 Time: 2:00 PM – 4:00 PM (2 hours)\n📍 Location: TACAM Cultural Center\n💰 Fee: $35 for TACAM members | $40 for non-members\n🎨 Supplies: All materials included \n✨ What to Expect: \n\nAn intimate class size for personalized 1:1 instruction\nA welcoming space to explore your creativity with expert guidance\nLight snacks and complimentary drinks provided by TACAM\nFeel free to bring a treat to share with fellow participants\n\nCome\, relax\, and enjoy a wonderful afternoon of art\, learning\, and community! \n📩 RSVP by October 5th by RSVP vie our website. \nWe can’t wait to create with you! \nBest\,\nTACAM BoD \n 
URL:https://tacam.org/event/%f0%9f%8e%a8-join-our-art-masterclass-workshop-october-12-at-tacam/
LOCATION:TACAM Cultural Center\, 28847 Beck Rd\, Wixom\, MI\, 48393\, United States
CATEGORIES:Events at TACAM Building
ATTACH;FMTTYPE=image/png:https://tacam.org/wp-content/uploads/2025/09/12-October-2025-1.png
END:VEVENT
END:VCALENDAR